BEGIN:VCALENDAR
VERSION:2.0
PRODID:-//ChamberMaster//Event Calendar 2.0//EN
METHOD:PUBLISH
X-PUBLISHED-TTL:P3D
REFRESH-INTERVAL:P3D
CALSCALE:GREGORIAN
BEGIN:VEVENT
DTSTART:20180327T160000Z
DTEND:20180327T220000Z
X-MICROSOFT-CDO-ALLDAYEVENT:FALSE
SUMMARY:Southstone Behavioral Health Open House/Ribbon Cutting
DESCRIPTION:Southstone Behavioral Health invites you to meet the staff and tour the facilites. \n\nThe ribbon cutting will be at 2:00pm. Light refreshments will be provided. \n\nRSVP by March 23\, 2018 to wendi.true@acadiahealthcare.com
X-ALT-DESC;FMTTYPE=text/html:Southstone Behavioral Health invites you to meet the staff and tour the facilites.&nbsp\;<br />\nThe ribbon cutting will be at 2:00pm. Light refreshments will be provided.&nbsp\;<br />\n<strong>RSVP by March 23\, 2018 to wendi.true@acadiahealthcare.com</strong><br />\n&nbsp\;
LOCATION:Southstone Behavioral Health 3046 Carlbrook Road\, South Boston\, VA 24592
UID:e.845.7243
SEQUENCE:3
DTSTAMP:20260422T071223Z
URL:https://business.halifaxchamber.net/events/details/southstone-behavioral-health-open-house-ribbon-cutting-7243
END:VEVENT

END:VCALENDAR
