BEGIN:VCALENDAR
VERSION:2.0
PRODID:-//ChamberMaster//Event Calendar 2.0//EN
METHOD:PUBLISH
X-PUBLISHED-TTL:P3D
REFRESH-INTERVAL:P3D
CALSCALE:GREGORIAN
BEGIN:VEVENT
DTSTART:20200316T150000Z
DTEND:20200316T153000Z
X-MICROSOFT-CDO-ALLDAYEVENT:FALSE
SUMMARY:Spainhour's Grand Opening and Ribbon Cutting
DESCRIPTION:Join us to celebrate the official grand opening and ribbon cutting at the new Spainhour's location in Hupps Mill Plaza.
X-ALT-DESC;FMTTYPE=text/html:Join us to celebrate the official grand opening and ribbon cutting at the new Spainhour&#39\;s location in Hupps Mill Plaza.&nbsp\;
LOCATION:2217 Wilborn Avenue South Boston\, VA 24592
UID:e.845.17529
SEQUENCE:3
DTSTAMP:20260420T151500Z
URL:https://business.halifaxchamber.net/events/details/spainhour-s-grand-opening-and-ribbon-cutting-17529
END:VEVENT

END:VCALENDAR
