BEGIN:VCALENDAR
VERSION:2.0
PRODID:-//ChamberMaster//Event Calendar 2.0//EN
METHOD:PUBLISH
X-PUBLISHED-TTL:P3D
REFRESH-INTERVAL:P3D
CALSCALE:GREGORIAN
BEGIN:VEVENT
DTSTART:20190516T160000Z
DTEND:20190516T213000Z
X-MICROSOFT-CDO-ALLDAYEVENT:FALSE
SUMMARY:Speaker Series: Smart Cities
DESCRIPTION:Cities and communities are deploying innovative new technologies and urban planning models that rely on sensors\, AI\, IoT\, and beyond to improve transportation\, public safety\, energy infrastructure\, and environmental management.\n\nSouthern Piedmont Technology Council will have keynote speaker Dave Ihrie share what is a Smart City\, why it is important to all in a community\, what are the benefits\, and how do we move our communities forward. We will also have a panel from local government across the region on Smart City technologies that are currently in place and their future plans.\n\nRegister at www.sptc-va.org
X-ALT-DESC;FMTTYPE=text/html:<div class="page" title="Page 1">\n<div class="section">\n<div class="layoutArea">\n<div class="column">\n<p>Cities and communities are deploying innovative new technologies and urban planning models that rely on sensors\, AI\, IoT\, and beyond to improve transportation\, public safety\, energy infrastructure\, and environmental management.<br />\nSouthern Piedmont Technology Council will have keynote speaker Dave Ihrie share what is a Smart City\, why it is important to all in a community\, what are the benefits\, and how do we move our communities forward. We will also have a panel from local government across the region on Smart City technologies that are currently in place and their future plans.<br />\nRegister at www.sptc-va.org</p>\n</div>\n</div>\n</div>\n</div>\n
LOCATION:Institue for Advanced Learning & Research 150 Slayton Ave. Danville\, VA 24540
UID:e.845.12480
SEQUENCE:3
DTSTAMP:20260421T062321Z
URL:https://business.halifaxchamber.net/events/details/speaker-series-smart-cities-12480
END:VEVENT

END:VCALENDAR
