BEGIN:VCALENDAR
VERSION:2.0
PRODID:-//ChamberMaster//Event Calendar 2.0//EN
METHOD:PUBLISH
X-PUBLISHED-TTL:P3D
REFRESH-INTERVAL:P3D
CALSCALE:GREGORIAN
BEGIN:VEVENT
DTSTART:20190520T213000Z
DTEND:20190520T213000Z
X-MICROSOFT-CDO-ALLDAYEVENT:FALSE
SUMMARY:Special Education Advisory Committee Meeting
DESCRIPTION:The Special Education Advisory Committee for Halifax County Public Schools will meet in the conference room at Central Office\, Mary Bethune Complex. The public is invited to attend.
X-ALT-DESC;FMTTYPE=text/html:The Special Education Advisory Committee for Halifax County Public Schools will meet in the conference room at Central Office\, Mary Bethune Complex. The public is invited to attend.
LOCATION:Central Office\, Mary Bethune Complex 1030 Mary Bethune St. Halifax\, VA 24558
UID:e.845.12488
SEQUENCE:3
DTSTAMP:20260421T062829Z
URL:https://business.halifaxchamber.net/events/details/special-education-advisory-committee-meeting-12488
END:VEVENT

END:VCALENDAR
