BEGIN:VCALENDAR
VERSION:2.0
PRODID:-//ChamberMaster//Event Calendar 2.0//EN
METHOD:PUBLISH
X-PUBLISHED-TTL:P3D
REFRESH-INTERVAL:P3D
CALSCALE:GREGORIAN
BEGIN:VEVENT
DTSTART;VALUE=DATE:20180413
DTEND;VALUE=DATE:20180416
TRANSP:TRANSPARENT
X-MICROSOFT-CDO-ALLDAYEVENT:TRUE
SUMMARY:Sportscar Club of America "VIR Spring Sprints" Majors Tour
DESCRIPTION:For 2018\, the Sports Car Club of America Eastern Conference has been divided into North and South Conferences. This premier Majors event for both the Northeast and Southeast Conferences is sure to demand your attention as some of the best amateur drivers in the country take the track! VIR is the first of only two venues on the Majors Tour calendar to award points to both conferences. With the Runoffs being at Daytona this year\, this will be a must event for any east coast drivers contemplating a Runoffs bid. There's nothing like that pit in your gut that tells you   no commands you: It's time to go racing.\n\n \nAll current military will be admitted free and veterans will receive a 50% discount to ALL VIR events. Children 16 and under are always free with a paying adult and there is no cost for parking.
X-ALT-DESC;FMTTYPE=text/html:<span style="color: rgb(0\, 0\, 0)\; font-family: HelveticaNeue-Light\, &quot\;Helvetica Neue Light&quot\;\, &quot\;Helvetica Neue&quot\;\, Helvetica\, Arial\, &quot\;Lucida Grande&quot\;\, sans-serif\; font-size: 16px\;">For 2018\, the Sports Car Club of America Eastern Conference has been divided into&nbsp\;North and South Conferences. This premier Majors event for both the Northeast and Southeast&nbsp\;Conferences is sure to demand your attention as some of the best amateur drivers in the country take&nbsp\;the track! VIR is the first of only two venues on the Majors Tour calendar to award points to both&nbsp\;conferences. With the Runoffs being at Daytona this year\, this will be a must event for any east coast&nbsp\;drivers contemplating a Runoffs bid. There&rsquo\;s nothing like that pit in your gut that tells you &ndash\; no&nbsp\;commands you: It&rsquo\;s time to go racing.</span><br />\n&nbsp\;\n<p style="box-sizing: border-box\; margin: 1em 0px\; hyphens: none\; line-height: 1.5em\; color: rgb(0\, 0\, 0)\; font-family: HelveticaNeue-Light\, &quot\;Helvetica Neue Light&quot\;\, &quot\;Helvetica Neue&quot\;\, Helvetica\, Arial\, &quot\;Lucida Grande&quot\;\, sans-serif\; font-size: 16px\;"><strong style="box-sizing: border-box\;">All current military will be admitted free and veterans will receive a 50% discount to ALL VIR events. Children 16 and under are always free with a paying adult and there is no cost for parking.</strong></p>\n\n<div>&nbsp\;</div>\n
LOCATION:VIRginia International Raceway 1245 Pine Tree Road Alton\, VA
UID:e.845.7202
SEQUENCE:3
DTSTAMP:20260422T034906Z
URL:https://business.halifaxchamber.net/events/details/sportscar-club-of-america-vir-spring-sprints-majors-tour-7202
END:VEVENT

END:VCALENDAR
