BEGIN:VCALENDAR
VERSION:2.0
PRODID:-//ChamberMaster//Event Calendar 2.0//EN
METHOD:PUBLISH
X-PUBLISHED-TTL:P3D
REFRESH-INTERVAL:P3D
CALSCALE:GREGORIAN
BEGIN:VEVENT
DTSTART:20190323T113000Z
DTEND:20190323T160000Z
X-MICROSOFT-CDO-ALLDAYEVENT:FALSE
SUMMARY:Spring 5K Community 5k Walk/Run
DESCRIPTION:The Downtown South Boston Farmers Market is hosting a Spring 5k Community Walk/Run! There will be free giveaways.\n\n\n\nThe event is FREE though you will need to register on site that morning. We are collecting non perishables for the good Samaritan! The 5K will start at 8:30. Registration will be from 7:30-8:00. \n\n\n\nThe market will be open for the Spring season and vendors with vegetable starts\, flowers\, soap\, baked goods\, wreaths\, meats\, cold weather crops\, eggs\, canned goods\, and much more!
X-ALT-DESC;FMTTYPE=text/html:<span style="caret-color: rgb(29\, 33\, 41)\; color: rgb(29\, 33\, 41)\; font-family: system-ui\, -apple-system\, BlinkMacSystemFont\, &quot\;.SFNSText-Regular&quot\;\, sans-serif\; font-size: 14px\; white-space: pre-wrap\; background-color: rgb(255\, 255\, 255)\;">The Downtown South Boston Farmers Market is hosting a Spring 5k Community Walk/Run! There will be free giveaways.</span><br style="caret-color: rgb(29\, 33\, 41)\; color: rgb(29\, 33\, 41)\; font-family: system-ui\, -apple-system\, BlinkMacSystemFont\, &quot\;.SFNSText-Regular&quot\;\, sans-serif\; font-size: 14px\; white-space: pre-wrap\;" />\n<br style="caret-color: rgb(29\, 33\, 41)\; color: rgb(29\, 33\, 41)\; font-family: system-ui\, -apple-system\, BlinkMacSystemFont\, &quot\;.SFNSText-Regular&quot\;\, sans-serif\; font-size: 14px\; white-space: pre-wrap\;" />\n<span style="caret-color: rgb(29\, 33\, 41)\; color: rgb(29\, 33\, 41)\; font-family: system-ui\, -apple-system\, BlinkMacSystemFont\, &quot\;.SFNSText-Regular&quot\;\, sans-serif\; font-size: 14px\; white-space: pre-wrap\; background-color: rgb(255\, 255\, 255)\;">The event is FREE though you will need to register on site that morning. We are collecting non perishables for the good Samaritan! The 5K will start at 8:30. Registration will be from 7:30-8:00. </span><br style="caret-color: rgb(29\, 33\, 41)\; color: rgb(29\, 33\, 41)\; font-family: system-ui\, -apple-system\, BlinkMacSystemFont\, &quot\;.SFNSText-Regular&quot\;\, sans-serif\; font-size: 14px\; white-space: pre-wrap\;" />\n<br style="caret-color: rgb(29\, 33\, 41)\; color: rgb(29\, 33\, 41)\; font-family: system-ui\, -apple-system\, BlinkMacSystemFont\, &quot\;.SFNSText-Regular&quot\;\, sans-serif\; font-size: 14px\; white-space: pre-wrap\;" />\n<span style="caret-color: rgb(29\, 33\, 41)\; color: rgb(29\, 33\, 41)\; font-family: system-ui\, -apple-system\, BlinkMacSystemFont\, &quot\;.SFNSText-Regular&quot\;\, sans-serif\; font-size: 14px\; white-space: pre-wrap\; background-color: rgb(255\, 255\, 255)\;">The market will be open for the Spring season and vendors with vegetable starts\, flowers\, soap\, baked goods\, wreaths\, meats\, cold weather crops\, eggs\, canned goods\, and much more!</span>
LOCATION:
UID:e.845.12381
SEQUENCE:3
DTSTAMP:20260421T093605Z
URL:https://business.halifaxchamber.net/events/details/spring-5k-community-5k-walk-run-12381
END:VEVENT

END:VCALENDAR
