BEGIN:VCALENDAR
VERSION:2.0
PRODID:-//ChamberMaster//Event Calendar 2.0//EN
METHOD:PUBLISH
X-PUBLISHED-TTL:P3D
REFRESH-INTERVAL:P3D
CALSCALE:GREGORIAN
BEGIN:VEVENT
DTSTART:20190406T130000Z
DTEND:20190406T180000Z
X-MICROSOFT-CDO-ALLDAYEVENT:FALSE
SUMMARY:Spring Bazzar
DESCRIPTION:Family-friendly shopping day for the entire community! Shop with tons of local vendors & crafters all in one place! You are sure to find something for everyone!\n\n\n\nInterested in becoming an outdoor vendor please call 434-476-2343 or email townoffice@townofhalifax.com
X-ALT-DESC;FMTTYPE=text/html:<span style="color: rgb(29\, 33\, 41)\; font-family: system-ui\, -apple-system\, system-ui\, &quot\;.SFNSText-Regular&quot\;\, sans-serif\; font-size: 14px\; white-space: pre-wrap\;">Family-friendly shopping day for the entire community! Shop with tons of local vendors &amp\; crafters all in one place! You are sure to find something for everyone!</span><br style="color: rgb(29\, 33\, 41)\; font-family: system-ui\, -apple-system\, system-ui\, &quot\;.SFNSText-Regular&quot\;\, sans-serif\; font-size: 14px\; white-space: pre-wrap\;" />\n<br style="color: rgb(29\, 33\, 41)\; font-family: system-ui\, -apple-system\, system-ui\, &quot\;.SFNSText-Regular&quot\;\, sans-serif\; font-size: 14px\; white-space: pre-wrap\;" />\n<span style="color: rgb(29\, 33\, 41)\; font-family: system-ui\, -apple-system\, system-ui\, &quot\;.SFNSText-Regular&quot\;\, sans-serif\; font-size: 14px\; white-space: pre-wrap\;">Interested in becoming an outdoor vendor please call 434-476-2343 or email townoffice@townofhalifax.com</span>
LOCATION:Town of Halifax Farmers Market 209 S Main Street\, Halifax\, VA 24558
UID:e.845.12029
SEQUENCE:3
DTSTAMP:20260421T075452Z
URL:https://business.halifaxchamber.net/events/details/spring-bazzar-12029
END:VEVENT

END:VCALENDAR
