BEGIN:VCALENDAR
VERSION:2.0
PRODID:-//ChamberMaster//Event Calendar 2.0//EN
METHOD:PUBLISH
X-PUBLISHED-TTL:P3D
REFRESH-INTERVAL:P3D
CALSCALE:GREGORIAN
BEGIN:VEVENT
DTSTART:20190511T200000Z
DTEND:20190512T000000Z
X-MICROSOFT-CDO-ALLDAYEVENT:FALSE
SUMMARY:Spring Cruz-In
DESCRIPTION:Tinkers Car Club with Italian Delight will host the Spring Cruz-In 2019 from 4 pm - 8pm on Saturday. \n\nAdmission is free. All cars\, trucks\, motorcycle are welcome.\n\nVisit http://tinkerscarclub.tripod.com
X-ALT-DESC;FMTTYPE=text/html:Tinkers Car Club with Italian Delight will host the Spring Cruz-In 2019 from 4 pm - 8pm on Saturday.&nbsp\;<br />\nAdmission is free. All cars\, trucks\, motorcycle are welcome.<br />\nVisit http://tinkerscarclub.tripod.com
LOCATION:Italian Delight Parking lot on 501 North in Halifax Square Shopping Center
UID:e.845.12485
SEQUENCE:3
DTSTAMP:20260421T062404Z
URL:https://business.halifaxchamber.net/events/details/spring-cruz-in-12485
END:VEVENT

END:VCALENDAR
