BEGIN:VCALENDAR
VERSION:2.0
PRODID:-//ChamberMaster//Event Calendar 2.0//EN
METHOD:PUBLISH
X-PUBLISHED-TTL:P3D
REFRESH-INTERVAL:P3D
CALSCALE:GREGORIAN
BEGIN:VEVENT
DTSTART;VALUE=DATE:20190406
DTEND;VALUE=DATE:20190407
TRANSP:TRANSPARENT
X-MICROSOFT-CDO-ALLDAYEVENT:TRUE
SUMMARY:Spring Festival EGG-stravaganz
DESCRIPTION:Saturday April 6th 11am-1pm \n\nAstroCamp & Camp MotorSports will host their first EGG-stravaganza featuring an Easter Egg Hunt\, Easter Bunny\, Kids Attractions\, Tinker Car Club Cruise-In\, Rocket Launching and MORE! \n\nServing FREE Lunch (while supplies last) \n\n8144 Mt. Laurel Rd. Clover Va
X-ALT-DESC;FMTTYPE=text/html:<div>\n<div>\n<div>\n<div>\n<p><strong>Saturday April 6th 11am-1pm </strong></p>\n\n<p><strong>AstroCamp &amp\; Camp MotorSports will host their first EGG-stravaganza featuring an Easter Egg Hunt\, Easter Bunny\, Kids Attractions\, Tinker Car Club Cruise-In\, Rocket Launching and MORE! </strong></p>\n\n<p><strong>Serving FREE Lunch </strong><strong>(while supplies last) </strong></p>\n\n<p><strong>8144 Mt. Laurel Rd. Clover Va </strong></p>\n</div>\n</div>\n</div>\n</div>\n
LOCATION:
UID:e.845.12378
SEQUENCE:3
DTSTAMP:20260421T075806Z
URL:https://business.halifaxchamber.net/events/details/spring-festival-egg-stravaganz-12378
END:VEVENT

END:VCALENDAR
