BEGIN:VCALENDAR
VERSION:2.0
PRODID:-//ChamberMaster//Event Calendar 2.0//EN
METHOD:PUBLISH
X-PUBLISHED-TTL:P3D
REFRESH-INTERVAL:P3D
CALSCALE:GREGORIAN
BEGIN:VEVENT
DTSTART;VALUE=DATE:20210327
DTEND;VALUE=DATE:20210329
TRANSP:TRANSPARENT
X-MICROSOFT-CDO-ALLDAYEVENT:TRUE
SUMMARY:Spring Soccer at The Y
DESCRIPTION:Children ages 3-18 years old are welcome to join spring soccer at the YMCA.\n\nGames are held Saturdays. Practices vary by age group during the week.
X-ALT-DESC;FMTTYPE=text/html:Children ages 3-18 years old are welcome to join spring soccer at the YMCA.<br />\nGames are held Saturdays. Practices vary by age group during the week.
LOCATION:
UID:e.845.17869
SEQUENCE:3
DTSTAMP:20260419T183106Z
URL:https://business.halifaxchamber.net/events/details/spring-soccer-at-the-y-03-27-2021-17869
END:VEVENT

END:VCALENDAR
