BEGIN:VCALENDAR
VERSION:2.0
PRODID:-//ChamberMaster//Event Calendar 2.0//EN
METHOD:PUBLISH
X-PUBLISHED-TTL:P3D
REFRESH-INTERVAL:P3D
CALSCALE:GREGORIAN
BEGIN:VEVENT
DTSTART:20190309T010000Z
DTEND:20190309T030000Z
X-MICROSOFT-CDO-ALLDAYEVENT:FALSE
SUMMARY:Spring Staunton River Star Party Public Night
DESCRIPTION:PLEASE NOTE THAT THE PUBLIC NIGHT FOR STAR PARTY IS NO LONGER ON SATURDAY.\n\nWe will help you get parked at the Dan River boat launch and then bus you to the observing field. Mingle with amateur astronomers to learn about and view planets\, stars\, nebulae and galaxies. Dress for the weather and bring a flashlight\, preferably one with a red lens. (Red filters will be provided for those who don't have a red lens.)
X-ALT-DESC;FMTTYPE=text/html:<span style="font-family: Geneva\, Arial\, Helvetica\, sans-serif\; font-size: 14px\; background-color: rgb(255\, 255\, 255)\;">PLEASE NOTE THAT THE PUBLIC NIGHT FOR STAR PARTY IS NO LONGER ON SATURDAY.</span><br style="font-family: Geneva\, Arial\, Helvetica\, sans-serif\; font-size: 14px\;" />\n<span style="font-family: Geneva\, Arial\, Helvetica\, sans-serif\; font-size: 14px\; background-color: rgb(255\, 255\, 255)\;">We will help you get parked at the Dan River boat launch and then bus you to the observing field. Mingle with amateur astronomers to learn about and view planets\, stars\, nebulae and galaxies. Dress for the weather and bring a flashlight\, preferably one with a red lens. (Red filters will be provided for those who don&#39\;t have a red lens.)</span>
LOCATION:Observation Field Staunton River State Park
UID:e.845.12037
SEQUENCE:3
DTSTAMP:20260421T110114Z
URL:https://business.halifaxchamber.net/events/details/spring-staunton-river-star-party-public-night-12037
END:VEVENT

END:VCALENDAR
