BEGIN:VCALENDAR
VERSION:2.0
PRODID:-//ChamberMaster//Event Calendar 2.0//EN
METHOD:PUBLISH
X-PUBLISHED-TTL:P3D
REFRESH-INTERVAL:P3D
CALSCALE:GREGORIAN
BEGIN:VEVENT
DTSTART:20210516T180000Z
DTEND:20210516T180000Z
X-MICROSOFT-CDO-ALLDAYEVENT:FALSE
SUMMARY:Spring Tea at Oak Grove Bed & Breakfast
DESCRIPTION:Put on your bonnet for a lovely outdoor tea and bring your friends!\n\n$25 tickets must be pre-purchased by calling 434-575-7137
X-ALT-DESC;FMTTYPE=text/html:Put on your bonnet for a lovely outdoor tea and bring your friends!<br />\n$25 tickets must be pre-purchased by calling 434-575-7137
LOCATION:Oak Grove Bed & Breakfast 1245 Cluster Springs Road South Boston\, VA 24592
UID:e.845.18019
SEQUENCE:3
DTSTAMP:20260419T141512Z
URL:https://business.halifaxchamber.net/events/details/spring-tea-at-oak-grove-bed-breakfast-18019
END:VEVENT

END:VCALENDAR
