BEGIN:VCALENDAR
VERSION:2.0
PRODID:-//ChamberMaster//Event Calendar 2.0//EN
METHOD:PUBLISH
X-PUBLISHED-TTL:P3D
REFRESH-INTERVAL:P3D
CALSCALE:GREGORIAN
BEGIN:VEVENT
DTSTART:20181111T180000Z
DTEND:20181111T220000Z
X-MICROSOFT-CDO-ALLDAYEVENT:FALSE
SUMMARY:Springfield Distillery 2-year Anniversary
DESCRIPTION:From 1 PM - 5 PM. Seems like yesterday\, however\, Springfield Distillery will be 2 years old. Come to help us celebrate with our good friends James and Kelly. Springfield is such a great place to clear your mind and relax!\n\n\n\nD&D Skins and Full Circle Pizza will be here!!!
X-ALT-DESC;FMTTYPE=text/html:<span style="caret-color: rgb(29\, 33\, 41)\; color: rgb(29\, 33\, 41)\; font-family: system-ui\, -apple-system\, BlinkMacSystemFont\, &quot\;.SFNSText-Regular&quot\;\, sans-serif\; font-size: 14px\;">From 1 PM - 5 PM. Seems like yesterday\, however\, Springfield Distillery will be 2 years old. Come to help us celebrate with our good friends James and Kelly. Springfield is such a great place to clear your mind and relax!</span><br />\n<br style="caret-color: rgb(29\, 33\, 41)\; color: rgb(29\, 33\, 41)\; font-family: system-ui\, -apple-system\, BlinkMacSystemFont\, &quot\;.SFNSText-Regular&quot\;\, sans-serif\; font-size: 14px\;" />\n<span style="caret-color: rgb(29\, 33\, 41)\; color: rgb(29\, 33\, 41)\; font-family: system-ui\, -apple-system\, BlinkMacSystemFont\, &quot\;.SFNSText-Regular&quot\;\, sans-serif\; font-size: 14px\;">D&amp\;D Skins and Full Circle Pizza will be here!!!</span>
LOCATION:Springfield Distillery 9040 River Road\, Halifax\, VA 24558
UID:e.845.8566
SEQUENCE:3
DTSTAMP:20260421T152722Z
URL:https://business.halifaxchamber.net/events/details/springfield-distillery-2-year-anniversary-8566
END:VEVENT

END:VCALENDAR
