BEGIN:VCALENDAR
VERSION:2.0
PRODID:-//ChamberMaster//Event Calendar 2.0//EN
METHOD:PUBLISH
X-PUBLISHED-TTL:P3D
REFRESH-INTERVAL:P3D
CALSCALE:GREGORIAN
BEGIN:VEVENT
DTSTART:20191110T170000Z
DTEND:20191110T220000Z
X-MICROSOFT-CDO-ALLDAYEVENT:FALSE
SUMMARY:Springfield Distillery 3rd Anniversary Celebration
DESCRIPTION:Celebrate Springfield Distillery's 3rd anniversary.\n\nEnjoy music by Turkey Scratch.
X-ALT-DESC;FMTTYPE=text/html:Celebrate Springfield Distillery&#39\;s 3rd anniversary.<br />\nEnjoy music by Turkey Scratch.
LOCATION:Springfield Distillery 9040 River Road Halifax\, VA 24558
UID:e.845.14481
SEQUENCE:3
DTSTAMP:20260420T195826Z
URL:https://business.halifaxchamber.net/events/details/springfield-distillery-3rd-anniversary-celebration-14481
END:VEVENT

END:VCALENDAR
