BEGIN:VCALENDAR
VERSION:2.0
PRODID:-//ChamberMaster//Event Calendar 2.0//EN
METHOD:PUBLISH
X-PUBLISHED-TTL:P3D
REFRESH-INTERVAL:P3D
CALSCALE:GREGORIAN
BEGIN:VEVENT
DTSTART:20190412T220000Z
DTEND:20190413T010000Z
X-MICROSOFT-CDO-ALLDAYEVENT:FALSE
SUMMARY:Springfield Distillery Live Music Public Consumption
DESCRIPTION:
X-ALT-DESC;FMTTYPE=text/html:
LOCATION:
UID:e.845.12421
SEQUENCE:3
DTSTAMP:20260421T093731Z
URL:https://business.halifaxchamber.net/events/details/springfield-distillery-live-music-public-consumption-12421
END:VEVENT

END:VCALENDAR
