BEGIN:VCALENDAR
VERSION:2.0
PRODID:-//ChamberMaster//Event Calendar 2.0//EN
METHOD:PUBLISH
X-PUBLISHED-TTL:P3D
REFRESH-INTERVAL:P3D
CALSCALE:GREGORIAN
BEGIN:VEVENT
DTSTART:20190419T210000Z
DTEND:20190419T220000Z
X-MICROSOFT-CDO-ALLDAYEVENT:FALSE
SUMMARY:Springtime Wagon Ride
DESCRIPTION:Keep an eye out for Staunton River wagon ride. Every Friday throughout Spring Break you can enjoy a tour of our beautiful park by wagon ride. Enjoy the scenic views of the Staunton and Dan Rivers. Witness some of the original work that the Civilian Conservation Corps did to build our beautiful park. Be sure to bring your camera to capture some fun memories or anything picture worthy.\n\nProgram may have to be postponed or cancelled due to bad weather so make sure to check with our Visitor Center about the status of the program.\n\nThere is no fee for this program.\n\nParking fee is required to enter the park unless you are a cabin or campground guest
X-ALT-DESC;FMTTYPE=text/html:<span style="font-family: Geneva\, Arial\, Helvetica\, sans-serif\; font-size: 14px\; background-color: rgb(255\, 255\, 255)\;">Keep an eye out for Staunton River wagon ride. Every Friday throughout Spring Break you can enjoy a tour of our beautiful park by wagon ride. Enjoy the scenic views of the Staunton and Dan Rivers. Witness some of the original work that the Civilian Conservation Corps did to build our beautiful park. Be sure to bring your camera to capture some fun memories or anything picture worthy.</span><br style="font-family: Geneva\, Arial\, Helvetica\, sans-serif\; font-size: 14px\;" />\n<span style="font-family: Geneva\, Arial\, Helvetica\, sans-serif\; font-size: 14px\; background-color: rgb(255\, 255\, 255)\;">Program may have to be postponed or cancelled due to bad weather so make sure to check with our Visitor Center about the status of the program.</span><br style="font-family: Geneva\, Arial\, Helvetica\, sans-serif\; font-size: 14px\;" />\n<span style="font-family: Geneva\, Arial\, Helvetica\, sans-serif\; font-size: 14px\; background-color: rgb(255\, 255\, 255)\;">There is no fee for this program.</span><br style="font-family: Geneva\, Arial\, Helvetica\, sans-serif\; font-size: 14px\;" />\n<span style="font-family: Geneva\, Arial\, Helvetica\, sans-serif\; font-size: 14px\; background-color: rgb(255\, 255\, 255)\;">Parking fee is required to enter the park unless you are a cabin or campground guest</span>
LOCATION:Visitor Center Staunton River State Park Scottsburg\, VA 24589
UID:e.845.12393
SEQUENCE:3
DTSTAMP:20260421T093348Z
URL:https://business.halifaxchamber.net/events/details/springtime-wagon-ride-12393
END:VEVENT

END:VCALENDAR
