BEGIN:VCALENDAR
VERSION:2.0
PRODID:-//ChamberMaster//Event Calendar 2.0//EN
METHOD:PUBLISH
X-PUBLISHED-TTL:P3D
REFRESH-INTERVAL:P3D
CALSCALE:GREGORIAN
BEGIN:VEVENT
DTSTART:20200328T113000Z
DTEND:20200328T160000Z
X-MICROSOFT-CDO-ALLDAYEVENT:FALSE
SUMMARY:Sprint to Spring 2020 5K
DESCRIPTION:Downtown South Boston Farmers Market is hitting the ground running for a fabulous 2020 season by hosting the annual Spring 5k! Sprint to Spring 5k is accepting canned food donations to give to Tri County Community Action Center. \n\n\n\nA FAQ for this event is if it's okay to walk? Of Course it is! We want you and your crew to have an amazing experience at our first big event of 2020!\n\n\n\nBe sure to mark "going" or "interested" on the Facebook event so you won't miss any updates! There's so much more to be added in the future and I don't want you to miss a thing!\n\n\n\nEvent Link:\n\nhttps://facebook.com/events/s/sprint-to-spring-at-the-downto/467049280864591/?ti=icl
X-ALT-DESC;FMTTYPE=text/html:<span style="color: rgb(29\, 33\, 41)\; font-family: system-ui\, -apple-system\, system-ui\, &quot\;.SFNSText-Regular&quot\;\, sans-serif\; font-size: 14px\; white-space: pre-wrap\;">Downtown South Boston Farmers Market is hitting the ground running for a fabulous 2020 season by hosting the annual Spring 5k! Sprint to Spring 5k is accepting canned food donations to give to Tri County Community Action Center. </span><br />\n<br />\n<span style="color: rgb(28\, 30\, 33)\; font-family: system-ui\, -apple-system\, system-ui\, &quot\;.SFNSText-Regular&quot\;\, sans-serif\; font-size: 14px\;">A FAQ for this event is if it&rsquo\;s okay to walk? Of Course it is! We want you and your crew to have an amazing experience at our first big event of 2020!</span><br style="color: rgb(28\, 30\, 33)\; font-family: system-ui\, -apple-system\, system-ui\, &quot\;.SFNSText-Regular&quot\;\, sans-serif\; font-size: 14px\;" />\n<br style="color: rgb(28\, 30\, 33)\; font-family: system-ui\, -apple-system\, system-ui\, &quot\;.SFNSText-Regular&quot\;\, sans-serif\; font-size: 14px\;" />\n<span style="color: rgb(28\, 30\, 33)\; font-family: system-ui\, -apple-system\, system-ui\, &quot\;.SFNSText-Regular&quot\;\, sans-serif\; font-size: 14px\;">Be sure to mark &ldquo\;going&rdquo\; or &ldquo\;interested&rdquo\; on the Facebook event so you won&rsquo\;t miss any updates! There&rsquo\;s so much more to be added in the future and I don&rsquo\;t want you to miss a thing!</span><br />\n<br />\n<span class="text_exposed_show" style="display: inline\; font-family: system-ui\, -apple-system\, system-ui\, &quot\;.SFNSText-Regular&quot\;\, sans-serif\; color: rgb(28\, 30\, 33)\; font-size: 14px\;">Event Link:<br />\n<a href="https://facebook.com/events/s/sprint-to-spring-at-the-downto/467049280864591/?ti=icl" rel="nofollow" style="color: rgb(56\, 88\, 152)\; cursor: pointer\; text-decoration-line: none\; font-family: inherit\;"><span style="font-family: inherit\;">https://facebook.com/</span><wbr /><span style="font-family: inherit\;">events/s/</span><wbr /><span style="font-family: inherit\;">sprint-to-spring-at-the-dow</span><wbr /><span style="font-family: inherit\;">nto/467049280864591/</span><wbr />?ti=icl</a></span><br />\n&nbsp\;
LOCATION:
UID:e.845.17498
SEQUENCE:3
DTSTAMP:20260420T131830Z
URL:https://business.halifaxchamber.net/events/details/sprint-to-spring-2020-5k-17498
END:VEVENT

END:VCALENDAR
