BEGIN:VCALENDAR
VERSION:2.0
PRODID:-//ChamberMaster//Event Calendar 2.0//EN
METHOD:PUBLISH
X-PUBLISHED-TTL:P3D
REFRESH-INTERVAL:P3D
CALSCALE:GREGORIAN
BEGIN:VEVENT
DTSTART:20190410T210000Z
DTEND:20190411T000000Z
X-MICROSOFT-CDO-ALLDAYEVENT:FALSE
SUMMARY:SPTC Innovative Stars Awards Banquet
DESCRIPTION:The SPTC will hold its Innovative Stars Awards Banquet on April 10th to celebrate technology innovators in our region. Evan Feinman\, Executive Director of the Tobacco Region Revitalization Commission and Governor Northam's Chief Broadband Advisor will be the keynote speaker and he will address broadband initiatives in the Commonwealth. The highlight of the evening will be the award ceremony that honors the contributions of individuals and organizations that promote the importance of technology throughout our service region in the following categories: Chairman's Award\, Innovation in Technology (Large and Small Business)\, Innovation in Education or Community Outreach\, Innovation in Community\, Rising Star\, and Student Innovator. The evening reception begins at 5:00pm and the awards dinner begins at 6:00pm.  Visit www.sptc-va.org for more information.
X-ALT-DESC;FMTTYPE=text/html:<span style="font-family: Calibri\, sans-serif\; font-size: 15px\; background-color: rgb(255\, 255\, 255)\;">The SPTC will hold its Innovative Stars Awards Banquet on April 10th to celebrate technology innovators in our region. Evan Feinman\, Executive Director of the Tobacco Region Revitalization Commission and Governor Northam&#39\;s Chief Broadband Advisor will be the keynote speaker and he will address broadband initiatives in the Commonwealth. The highlight of the evening will be the award ceremony that honors the contributions of individuals and organizations that promote the importance of technology throughout our service region in the following categories: Chairman&#39\;s Award\, Innovation in Technology (Large and Small Business)\, Innovation in Education or Community Outreach\, Innovation in Community\, Rising Star\, and Student Innovator. The evening reception begins at 5:00pm and the awards dinner begins at 6:00pm.&nbsp\; Visit&nbsp\;</span><a href="http://www.sptc-va.org/" style="color: rgb(149\, 79\, 114)\; font-family: Calibri\, sans-serif\; font-size: 15px\; background-color: rgb(255\, 255\, 255)\;">www.sptc-va.org</a><span style="font-family: Calibri\, sans-serif\; font-size: 15px\; background-color: rgb(255\, 255\, 255)\;">&nbsp\;for more information.</span>
LOCATION:
UID:e.845.12374
SEQUENCE:3
DTSTAMP:20260421T080053Z
URL:https://business.halifaxchamber.net/events/details/sptc-innovative-stars-awards-banquet-12374
END:VEVENT

END:VCALENDAR
