BEGIN:VCALENDAR
VERSION:2.0
PRODID:-//ChamberMaster//Event Calendar 2.0//EN
METHOD:PUBLISH
X-PUBLISHED-TTL:P3D
REFRESH-INTERVAL:P3D
CALSCALE:GREGORIAN
BEGIN:VEVENT
DTSTART:20171129T150000Z
DTEND:20171129T210000Z
X-MICROSOFT-CDO-ALLDAYEVENT:FALSE
SUMMARY:SSCSB 2017 Art Show Recovery Through Art
DESCRIPTION:Southside Community Services Board and The South Boston- Halifax County Museum of Fine Arts and History cordially invite you\, your family and friends to attend SSCSB 2017 Art Show Recovery Through Art on exhibit at the South Boston - Halifax County Museum. The artistic talents of individuals from the tri-county area (Brunswick\, Halifax\, and Mecklenburg) will be on exhibit at the museum. We would love to have you join us.
X-ALT-DESC;FMTTYPE=text/html:Southside Community Services Board and The South Boston- Halifax County Museum of Fine Arts and History cordially invite you\, your family and friends to attend SSCSB 2017 Art Show Recovery Through Art on exhibit at the South Boston - Halifax County Museum. The artistic talents of individuals from the tri-county area (Brunswick\, Halifax\, and Mecklenburg) will be on exhibit at the museum. We would love to have you join us.
LOCATION:South Boston-Halifax County Museum of Fine Arts and History 1540 Wilborn Avenue South Boston\, VA 24592
UID:e.845.7171
SEQUENCE:3
DTSTAMP:20260422T121054Z
URL:https://business.halifaxchamber.net/events/details/sscsb-2017-art-show-recovery-through-art-7171
END:VEVENT

END:VCALENDAR
