BEGIN:VCALENDAR
VERSION:2.0
PRODID:-//ChamberMaster//Event Calendar 2.0//EN
METHOD:PUBLISH
X-PUBLISHED-TTL:P3D
REFRESH-INTERVAL:P3D
CALSCALE:GREGORIAN
BEGIN:VEVENT
DTSTART;VALUE=DATE:20190511
DTEND;VALUE=DATE:20190512
TRANSP:TRANSPARENT
X-MICROSOFT-CDO-ALLDAYEVENT:TRUE
SUMMARY:Stamp Out Hunger Food Drive
DESCRIPTION:Help stamp out hunger! This Saturday help the National Association of Letter Carriers with their food drive. All items will be donated to Good Samaritan food closet in South Boston or Nathalie. To participate\, leave non-parishable food donations by your mailbox for your mail carrier to take.
X-ALT-DESC;FMTTYPE=text/html:Help stamp out hunger! This Saturday help the National Association of Letter Carriers with their food drive. All items will be donated to Good Samaritan food closet in South Boston or Nathalie. To participate\, leave non-parishable food donations by your mailbox for your mail carrier to take.&nbsp\;
LOCATION:
UID:e.845.13097
SEQUENCE:3
DTSTAMP:20260421T062759Z
URL:https://business.halifaxchamber.net/events/details/stamp-out-hunger-food-drive-13097
END:VEVENT

END:VCALENDAR
