BEGIN:VCALENDAR
VERSION:2.0
PRODID:-//ChamberMaster//Event Calendar 2.0//EN
METHOD:PUBLISH
X-PUBLISHED-TTL:P3D
REFRESH-INTERVAL:P3D
CALSCALE:GREGORIAN
BEGIN:VEVENT
DTSTART:20151018T000000Z
DTEND:20151018T030000Z
X-MICROSOFT-CDO-ALLDAYEVENT:FALSE
SUMMARY:Star Party Public Night
DESCRIPTION:The fall Staunton River Star Party will be held October 12-18\, 2015.  Those that want to participate in the Star Party can register with the Chapel Hill Astronomical and Observational Society at http://www.chaosastro.com/starparty .  There are options for registration\, including the full week weekend only.  The registration fee covers admission to the Star Party as well as allows camping on the observing field.  Food\, drinks\, and coffee are available beginning at noon on October 12   noon October 18\, from 6:00am   4:00am each day of the Star Party.  Restrooms and hot showers are located at the concession building.\n\n \n\nSaturday\, October 17\, from 8pm   11pm\, is the Public Night of Star Party.  The public is invited to come to the park for free to walk out on the observing field with the astronomers.  Each one will have their telescopes trained on a different object in the sky\, and will provide lots of information about the night sky.  Astronomers are also available to help guests with their own telescopes\, and can answer any astronomy-related questions you may have.
X-ALT-DESC;FMTTYPE=text/html:<span style="color:#1F497D\;">The fall Staunton River Star Party will be held October 12-18\, 2015.&nbsp\; Those that want to participate in the Star Party can register with the Chapel Hill Astronomical and Observational Society at <a href="http://www.chaosastro.com/starparty">http://www.chaosastro.com/starparty</a> .&nbsp\; There are options for registration\, including the full week weekend only.&nbsp\; The registration fee covers admission to the Star Party as well as allows camping on the observing field.&nbsp\; Food\, drinks\, and coffee are available beginning at noon on October 12 &ndash\; noon October 18\, from 6:00am &ndash\; 4:00am each day of the Star Party.&nbsp\; Restrooms and hot showers are located at the concession building.</span><br />\n&nbsp\;<br />\n<span style="color:#1F497D\;">Saturday\, October 17\, from 8pm &ndash\; 11pm\, is the Public Night of Star Party.&nbsp\; The public is invited to come to the park for free to walk out on the observing field with the astronomers.&nbsp\; Each one will have their telescopes trained on a different object in the sky\, and will provide lots of information about the night sky.&nbsp\; Astronomers are also available to help guests with their own telescopes\, and can answer any astronomy-related questions you may have.</span>
LOCATION:Staunton River State Park 1170 Staunton Trail\, Scottsburg\, VA 24589
UID:e.845.4541
SEQUENCE:3
DTSTAMP:20260425T174558Z
URL:https://business.halifaxchamber.net/events/details/star-party-public-night-10-17-2015-4541
END:VEVENT

END:VCALENDAR
