BEGIN:VCALENDAR
VERSION:2.0
PRODID:-//ChamberMaster//Event Calendar 2.0//EN
METHOD:PUBLISH
X-PUBLISHED-TTL:P3D
REFRESH-INTERVAL:P3D
CALSCALE:GREGORIAN
BEGIN:VEVENT
DTSTART:20191220T000000Z
DTEND:20191220T023500Z
X-MICROSOFT-CDO-ALLDAYEVENT:FALSE
SUMMARY:Star Wars: The Rise of Skywalker Early Release at World of Sports
DESCRIPTION:World of Sports will be showing an early release of Star Wars: The Rise of Skywalker!\n\n\n\nPurchase your ticket today at http://worldofsports.pfestore.com/capacity/titles/ComingSoon.aspx?fbclid=IwAR2PHfmaCIUD9XvGnm22tcOPFUeEtdhp8YTSG41X6bawdVMtsW8HluCqWiA
X-ALT-DESC;FMTTYPE=text/html:World of Sports will be showing an early release of Star Wars: The Rise of Skywalker!<br />\n<br />\nPurchase your ticket today at <a href="http://worldofsports.pfestore.com/capacity/titles/ComingSoon.aspx?fbclid=IwAR2PHfmaCIUD9XvGnm22tcOPFUeEtdhp8YTSG41X6bawdVMtsW8HluCqWiA">http://worldofsports.pfestore.com/capacity/titles/ComingSoon.aspx?fbclid=IwAR2PHfmaCIUD9XvGnm22tcOPFUeEtdhp8YTSG41X6bawdVMtsW8HluCqWiA</a>
LOCATION:2030 Bill Tuck Hwy South Boston\, VA 24592
UID:e.845.15609
SEQUENCE:3
DTSTAMP:20260420T200552Z
URL:https://business.halifaxchamber.net/events/details/star-wars-the-rise-of-skywalker-early-release-at-world-of-sports-15609
END:VEVENT

END:VCALENDAR
