BEGIN:VCALENDAR
VERSION:2.0
PRODID:-//ChamberMaster//Event Calendar 2.0//EN
METHOD:PUBLISH
X-PUBLISHED-TTL:P3D
REFRESH-INTERVAL:P3D
CALSCALE:GREGORIAN
BEGIN:VEVENT
DTSTART:20170810T213000Z
DTEND:20170810T230000Z
X-MICROSOFT-CDO-ALLDAYEVENT:FALSE
SUMMARY:Startup Business Seminar
DESCRIPTION:Startup Business Seminar at SVHEC August 10th.\n\n\n\nEntrepreneurship is the American Dream. \n\nUnfortunately\, of the 1 million businesses started each year\, most of them eventually fail. The one common theme may be lack of planning.\n\n \n\nIf you are considering the possibility of starting a business\, this free seminar will provide information that may help your business be among the 20 percent that survive and thrive. Prepare to start a successful business by evaluating your entrepreneurial abilities\, marketing strategies\, financial resources\, legal form of organization and receive tips to prepare and present your business plan. \n\n\n\nRegistration Required \n\nhttps://clients.virginiasbdc.org/workshop.aspx?ekey=91370004
X-ALT-DESC;FMTTYPE=text/html:<div style="color: rgb(48\, 48\, 48)\; font-family: Verdana\, Geneva\, sans-serif\; font-size: 14px\; text-align: center\;">Startup Business Seminar at SVHEC August 10th.<br />\n<br />\nEntrepreneurship is the American Dream.&nbsp\;</div>\n\n<div style="color: rgb(48\, 48\, 48)\; font-family: Verdana\, Geneva\, sans-serif\; font-size: 14px\; text-align: center\;">Unfortunately\, of the 1 million businesses started each year\, most of them eventually fail. The one common theme may be lack of planning.</div>\n\n<div style="color: rgb(48\, 48\, 48)\; font-family: Verdana\, Geneva\, sans-serif\; font-size: 14px\; text-align: center\;">&nbsp\;</div>\n\n<div style="color: rgb(48\, 48\, 48)\; font-family: Verdana\, Geneva\, sans-serif\; font-size: 14px\; text-align: center\;">If you are considering the possibility of starting a business\, this free seminar will provide information that may help your business be among the 20 percent that survive and thrive. Prepare to start a successful business by evaluating your entrepreneurial abilities\, marketing strategies\, financial resources\, legal form of organization and receive tips to prepare and present your business plan.&nbsp\;<br />\n<br />\nRegistration Required&nbsp\;<br />\nhttps://clients.virginiasbdc.org/workshop.aspx?ekey=91370004</div>\n
LOCATION:SVHEC 820 Bruce Street South Boston\, VA
UID:e.845.7041
SEQUENCE:3
DTSTAMP:20260422T193635Z
URL:https://business.halifaxchamber.net/events/details/startup-business-seminar-7041
END:VEVENT

END:VCALENDAR
