BEGIN:VCALENDAR
VERSION:2.0
PRODID:-//ChamberMaster//Event Calendar 2.0//EN
METHOD:PUBLISH
X-PUBLISHED-TTL:P3D
REFRESH-INTERVAL:P3D
CALSCALE:GREGORIAN
BEGIN:VEVENT
DTSTART:20170821T170000Z
DTEND:20170821T200000Z
X-MICROSOFT-CDO-ALLDAYEVENT:FALSE
SUMMARY:Staunton River State Park Eclipse Viewing Party
DESCRIPTION:Staunton River State Park is having a Eclipse Viewing Party Monday\, August 21st from 1:00 - 4:00.  It's a once in a lifetime event.\n\nThe Park will provide certified viewing glasses\, a solar telescope\, and interpretative material for your learning and viewing experience.
X-ALT-DESC;FMTTYPE=text/html:Staunton River State Park is having a Eclipse Viewing Party Monday\, August 21st from 1:00 - 4:00. &nbsp\;It&#39\;s a once in a lifetime event.<br />\nThe Park will provide certified viewing glasses\, a solar telescope\, and interpretative material for your learning and viewing experience.
LOCATION:Staunton River State Park 1170 Staunton Trail Scottsburg\, VA
UID:e.845.7072
SEQUENCE:3
DTSTAMP:20260422T175256Z
URL:https://business.halifaxchamber.net/events/details/staunton-river-state-park-eclipse-viewing-party-7072
END:VEVENT

END:VCALENDAR
