BEGIN:VCALENDAR
VERSION:2.0
PRODID:-//ChamberMaster//Event Calendar 2.0//EN
METHOD:PUBLISH
X-PUBLISHED-TTL:P3D
REFRESH-INTERVAL:P3D
CALSCALE:GREGORIAN
BEGIN:VEVENT
DTSTART:20181013T000000Z
DTEND:20181013T020000Z
X-MICROSOFT-CDO-ALLDAYEVENT:FALSE
SUMMARY:Staunton River State Park Star Party
DESCRIPTION:Fall Star Party Public Night at Staunton River State Park is this Friday night\, Oct 12 and promises to be out of this world.\n\n\n\nhttp://www.dcr.virginia.gov/state-parks/blog/fall-star-party-public-night-at-staunton-river-state-park-isfriday
X-ALT-DESC;FMTTYPE=text/html:<span style="caret-color: rgb(29\, 33\, 41)\; color: rgb(29\, 33\, 41)\; font-family: system-ui\, -apple-system\, BlinkMacSystemFont\, &quot\;.SFNSText-Regular&quot\;\, sans-serif\; font-size: 14px\; text-size-adjust: auto\;">Fall Star Party Public Night at Staunton River State Park is this Friday night\, Oct 12 and promises to be out of this world.</span><br />\n<br />\nhttp://www.dcr.virginia.gov/state-parks/blog/fall-star-party-public-night-at-staunton-river-state-park-isfriday<br />\n&nbsp\;
LOCATION:Staunton River State Park 1170 Staunton Trl\, Scottsburg\, VA 24589
UID:e.845.8531
SEQUENCE:3
DTSTAMP:20260421T185550Z
URL:https://business.halifaxchamber.net/events/details/staunton-river-state-park-star-party-8531
END:VEVENT

END:VCALENDAR
