BEGIN:VCALENDAR
VERSION:2.0
PRODID:-//ChamberMaster//Event Calendar 2.0//EN
METHOD:PUBLISH
X-PUBLISHED-TTL:P3D
REFRESH-INTERVAL:P3D
CALSCALE:GREGORIAN
BEGIN:VEVENT
DTSTART:20160313T010000Z
DTEND:20160313T040000Z
X-MICROSOFT-CDO-ALLDAYEVENT:FALSE
SUMMARY:Staunton River State Park To Host Star Party
DESCRIPTION:The public is invited to visit Staunton River State Park for an evening of stargazing. Visitors will be able to view a variety of planets\,star clusters and other celestial objects through telescopes. Seasoned astronomers will share information about the night sky.\n\n\n\nVisitors should dress for the weather and bring a flashlight\, preferably one with a red lens.Food and beverages will be available for purchase. Parking\n\nwill be at the pool parking lot adjacent to the Visitor Center.
X-ALT-DESC;FMTTYPE=text/html:The public is invited to visit Staunton River State Park for an evening of stargazing. Visitors will be able to view a variety of planets\,star clusters and other celestial objects through telescopes. Seasoned astronomers will share information about the night sky.<br />\n<br />\nVisitors should dress for the weather and bring a flashlight\, preferably one with a red lens.Food and beverages will be available for purchase. Parking<br />\nwill be&nbsp\;at the pool parking lot adjacent to the Visitor Center.<br />\n<br />\n&nbsp\;
LOCATION:Staunton River State Park 1170 Staunton Trail Scottsburg\, VA 24589
UID:e.845.4591
SEQUENCE:3
DTSTAMP:20260425T111724Z
URL:https://business.halifaxchamber.net/events/details/staunton-river-state-park-to-host-star-party-03-12-2016-4591
END:VEVENT

END:VCALENDAR
