BEGIN:VCALENDAR
VERSION:2.0
PRODID:-//ChamberMaster//Event Calendar 2.0//EN
METHOD:PUBLISH
X-PUBLISHED-TTL:P3D
REFRESH-INTERVAL:P3D
CALSCALE:GREGORIAN
BEGIN:VEVENT
DTSTART:20170326T000000Z
DTEND:20170326T030000Z
X-MICROSOFT-CDO-ALLDAYEVENT:FALSE
SUMMARY:Staunton River State Park To Host Star Party
DESCRIPTION:The public is invited to visit Staunton River State Park for an evening of stargazing. Visitors will be able to view a variety of planets\,star clusters and other celestial objects through telescopes. Seasoned astronomers will share information about the night sky.
X-ALT-DESC;FMTTYPE=text/html:The public is invited to visit Staunton River State Park for an evening of stargazing. Visitors will be able to view a variety of planets\,star clusters and other celestial objects through telescopes. Seasoned astronomers will share information about the night sky.
LOCATION:Staunton River State Park 1170 Staunton Trail Scottsburg\, VA 24589
UID:e.845.5825
SEQUENCE:3
DTSTAMP:20260424T145829Z
URL:https://business.halifaxchamber.net/events/details/staunton-river-state-park-to-host-star-party-5825
END:VEVENT

END:VCALENDAR
