BEGIN:VCALENDAR
VERSION:2.0
PRODID:-//ChamberMaster//Event Calendar 2.0//EN
METHOD:PUBLISH
X-PUBLISHED-TTL:P3D
REFRESH-INTERVAL:P3D
CALSCALE:GREGORIAN
BEGIN:VEVENT
DTSTART:20190121T023000Z
DTEND:20190121T044500Z
X-MICROSOFT-CDO-ALLDAYEVENT:FALSE
SUMMARY:Staunton River State Park Total Lunar Eclipse
DESCRIPTION:This will not be a ranger led event but we welcome you to view the only total lunar eclipse visible to us in 2019 on the Observation Field. The eclipse will begin at 9:36 p.m. and will be fully eclipsed at 11:41 p.m. The eclipse will be visible until 2:48 a.m. on January 21st. We encourage you to bring binoculars or a telescope and chairs or blankets to view this event. Please park in the Visitor Center or Pool parking lot and not on the Observation Field.
X-ALT-DESC;FMTTYPE=text/html:<span style="font-family: Geneva\, Arial\, Helvetica\, sans-serif\; font-size: 14px\; background-color: rgb(255\, 255\, 255)\;">This will not be a ranger led event but we welcome you to view the only total lunar eclipse visible to us in 2019 on the Observation Field. The eclipse will begin at 9:36 p.m. and will be fully eclipsed at 11:41 p.m. The eclipse will be visible until 2:48 a.m. on January 21st. We encourage you to bring binoculars or a telescope and chairs or blankets to view this event. Please park in the Visitor Center or Pool parking lot and not on the Observation Field.</span>
LOCATION:Visitor Center Staunton River State Park Scottsburg\, VA 24589
UID:e.845.11683
SEQUENCE:3
DTSTAMP:20260421T135742Z
URL:https://business.halifaxchamber.net/events/details/staunton-river-state-park-total-lunar-eclipse-11683
END:VEVENT

END:VCALENDAR
