BEGIN:VCALENDAR
VERSION:2.0
PRODID:-//ChamberMaster//Event Calendar 2.0//EN
METHOD:PUBLISH
X-PUBLISHED-TTL:P3D
REFRESH-INTERVAL:P3D
CALSCALE:GREGORIAN
BEGIN:VEVENT
DTSTART:20190831T140000Z
DTEND:20190831T200000Z
X-MICROSOFT-CDO-ALLDAYEVENT:FALSE
SUMMARY:Stop the Violence Car and Bike Show Fundraiser
DESCRIPTION:Tri-County Community Action Agency is have a Stop the Violence Car and Bike Show fundraiser for the Domestic Violence and Sexual Assault Program.\n\nCars are $20 and bikes are $15.\n\nEarly registration now until August 24th.\n\nThere will be prizes for the best car and best bike\, food\, fun\, games\, entertainment and more!\n\nIt's plenty of fun for the whole family!\n\nFor more information call 434-404-3455
X-ALT-DESC;FMTTYPE=text/html:Tri-County Community Action Agency is have a Stop the Violence Car and Bike Show fundraiser for the Domestic Violence and Sexual Assault Program.<br />\nCars are $20 and bikes are $15.<br />\nEarly registration now until August 24th.<br />\nThere will be prizes for the best car and best bike\, food\, fun\, games\, entertainment and more!<br />\nIt&#39\;s plenty of fun for the whole family!<br />\nFor more information call 434-404-3455
LOCATION:Heritage House 3501 Old Halifax Road South Boston\, VA 24592
UID:e.845.13246
SEQUENCE:3
DTSTAMP:20260421T012738Z
URL:https://business.halifaxchamber.net/events/details/stop-the-violence-car-and-bike-show-fundraiser-13246
END:VEVENT

END:VCALENDAR
