BEGIN:VCALENDAR
VERSION:2.0
PRODID:-//ChamberMaster//Event Calendar 2.0//EN
METHOD:PUBLISH
X-PUBLISHED-TTL:P3D
REFRESH-INTERVAL:P3D
CALSCALE:GREGORIAN
BEGIN:VEVENT
DTSTART:20200229T101500Z
DTEND:20200301T010000Z
X-MICROSOFT-CDO-ALLDAYEVENT:FALSE
SUMMARY:Storming the Castle: Indoor Triathlon
DESCRIPTION:Join or cheer David Conner as he raises money for the Comet and Sea Serpent Swim Teams by completing an indoor triathlon of Ironman Distances!\n\n\n\nPut together a relay team of as many people as you'd like to join him in competing EACH leg of the race!
X-ALT-DESC;FMTTYPE=text/html:Join or cheer David Conner as he raises money for the Comet and Sea Serpent Swim Teams by completing an indoor triathlon of Ironman Distances!<br />\n<br />\nPut together a relay team of as many people as you&#39\;d like to join him in competing EACH leg of the race!<br />\n&nbsp\;
LOCATION:South Boston/Halifax County YMCA 650 Hamilton BLVD South Boston\, VA 24592
UID:e.845.15653
SEQUENCE:3
DTSTAMP:20260420T150632Z
URL:https://business.halifaxchamber.net/events/details/storming-the-castle-indoor-triathlon-15653
END:VEVENT

END:VCALENDAR
