BEGIN:VCALENDAR
VERSION:2.0
PRODID:-//ChamberMaster//Event Calendar 2.0//EN
METHOD:PUBLISH
X-PUBLISHED-TTL:P3D
REFRESH-INTERVAL:P3D
CALSCALE:GREGORIAN
BEGIN:VEVENT
DTSTART:20181206T130000Z
DTEND:20181206T150000Z
X-MICROSOFT-CDO-ALLDAYEVENT:FALSE
SUMMARY:Strategic Plan Steering Committee Meeting 12/6
DESCRIPTION:Members of the Community Strategic Planning Steering Committee will meet Thursday\, December 6\, 8:00 am - 10:00 am.
X-ALT-DESC;FMTTYPE=text/html:Members of the Community Strategic Planning Steering Committee will meet Thursday\, December 6\, 8:00 am - 10:00 am.
LOCATION:
UID:e.845.8557
SEQUENCE:3
DTSTAMP:20260421T153024Z
URL:https://business.halifaxchamber.net/events/details/strategic-plan-steering-committee-meeting-12-6-8557
END:VEVENT

END:VCALENDAR
