BEGIN:VCALENDAR
VERSION:2.0
PRODID:-//ChamberMaster//Event Calendar 2.0//EN
METHOD:PUBLISH
X-PUBLISHED-TTL:P3D
REFRESH-INTERVAL:P3D
CALSCALE:GREGORIAN
BEGIN:VEVENT
DTSTART:20190212T190000Z
DTEND:20190212T200000Z
X-MICROSOFT-CDO-ALLDAYEVENT:FALSE
SUMMARY:Stroke/Aphasia Support Group Sentara Halifax Regional Hospital
DESCRIPTION:This support group is for stroke survivors\, co-survivors\, and anyone wishing to learn more about stroke and aphasic. Call 434-454-7606 for more information
X-ALT-DESC;FMTTYPE=text/html:This support group is for stroke survivors\, co-survivors\, and anyone wishing to learn more about stroke and aphasic. Call 434-454-7606 for more information
LOCATION:
UID:e.845.12008
SEQUENCE:3
DTSTAMP:20260421T123414Z
URL:https://business.halifaxchamber.net/events/details/stroke-aphasia-support-group-sentara-halifax-regional-hospital-12008
END:VEVENT

END:VCALENDAR
