BEGIN:VCALENDAR
VERSION:2.0
PRODID:-//ChamberMaster//Event Calendar 2.0//EN
METHOD:PUBLISH
X-PUBLISHED-TTL:P3D
REFRESH-INTERVAL:P3D
CALSCALE:GREGORIAN
BEGIN:VEVENT
DTSTART:20170712T123000Z
DTEND:20170712T200000Z
X-MICROSOFT-CDO-ALLDAYEVENT:FALSE
SUMMARY:Summer 2017 Boot Camp: Creating a Kaizen Culture
DESCRIPTION:Invest 1 day to learn A3 a proven\, sustainable way of implementing a LEAN strategy. Join us for a day of fun\, learning and you will be shown how to take kiazen out of the conference room and into the hand of every person every day!\n\n	Learn how to form A3 teams and begin immediate improvements\n	Understand how A3 drives Policy Deployment\n	See real examples of A3 from other businesses\n	Understand how to support A3 teams and avoid sabotaging progress\n	Network with other A3 Lean practitioners\n	Includes a 1 day on-site visit to help you do A3 at your facility\n\n$370 includes continental breakfast\, lunch and 1 day on-site.\n\n\n\nFor tickets visit here or for more information email p4lean@icloud.com.
X-ALT-DESC;FMTTYPE=text/html:Invest 1 day to learn A3 a proven\, sustainable way of implementing a LEAN strategy. Join us for a day of fun\, learning and you will be shown how to take kiazen&nbsp\;out of the conference room and into the hand of every person every day!\n<ul>\n	<li>Learn how to form A3 teams and begin immediate improvements</li>\n	<li>Understand how A3 drives Policy Deployment</li>\n	<li>See real examples of A3 from other businesses</li>\n	<li>Understand how to support A3 teams and avoid sabotaging progress</li>\n	<li>Network with other A3 Lean practitioners</li>\n	<li>Includes a 1 day on-site visit to help you do A3 at your facility</li>\n</ul>\n$370 includes continental breakfast\, lunch and 1 day on-site.<br />\n<br />\nFor tickets visit <a href="https://www.eventbrite.com/e/p4-summer-2017-a3-bootcamp-creating-a-kaizen-culture-tickets-34961950134?aff=es2">here</a>&nbsp\;or for more information email p4lean@icloud.com.<br />\n<br />\n&nbsp\;
LOCATION:ChemQuest Technology Institute 1100 Confroy Drive Suite 2 South Boston\, VA
UID:e.845.7011
SEQUENCE:3
DTSTAMP:20260422T231847Z
URL:https://business.halifaxchamber.net/events/details/summer-2017-boot-camp-creating-a-kaizen-culture-7011
END:VEVENT

END:VCALENDAR
