BEGIN:VCALENDAR
VERSION:2.0
PRODID:-//ChamberMaster//Event Calendar 2.0//EN
METHOD:PUBLISH
X-PUBLISHED-TTL:P3D
REFRESH-INTERVAL:P3D
CALSCALE:GREGORIAN
BEGIN:VEVENT
DTSTART:20180717T140000Z
DTEND:20180717T160000Z
X-MICROSOFT-CDO-ALLDAYEVENT:FALSE
SUMMARY:SUMMER FUN AT THE Y
DESCRIPTION:Mom's Morning Out
X-ALT-DESC;FMTTYPE=text/html:Mom&#39\;s Morning Out
LOCATION:YMCA 650 Hamilton Blvd. South Boston\, VA 24592
UID:e.845.8470
SEQUENCE:3
DTSTAMP:20260421T222136Z
URL:https://business.halifaxchamber.net/events/details/summer-fun-at-the-y-8470
END:VEVENT

END:VCALENDAR
