BEGIN:VCALENDAR
VERSION:2.0
PRODID:-//ChamberMaster//Event Calendar 2.0//EN
METHOD:PUBLISH
X-PUBLISHED-TTL:P3D
REFRESH-INTERVAL:P3D
CALSCALE:GREGORIAN
BEGIN:VEVENT
DTSTART:20180720T220000Z
DTEND:20180721T010000Z
X-MICROSOFT-CDO-ALLDAYEVENT:FALSE
SUMMARY:SUMMER FUN AT THE Y
DESCRIPTION:Freeze Pop Friday & Family Swim Night
X-ALT-DESC;FMTTYPE=text/html:Freeze Pop Friday &amp\; Family Swim Night
LOCATION:YMCA 650 Hamilton Blvd. South Boston\, VA 24592
UID:e.845.8471
SEQUENCE:3
DTSTAMP:20260421T234619Z
URL:https://business.halifaxchamber.net/events/details/summer-fun-at-the-y-8471
END:VEVENT

END:VCALENDAR
