BEGIN:VCALENDAR
VERSION:2.0
PRODID:-//ChamberMaster//Event Calendar 2.0//EN
METHOD:PUBLISH
X-PUBLISHED-TTL:P3D
REFRESH-INTERVAL:P3D
CALSCALE:GREGORIAN
BEGIN:VEVENT
DTSTART:20180721T140000Z
DTEND:20180721T180000Z
X-MICROSOFT-CDO-ALLDAYEVENT:FALSE
SUMMARY:SUMMER FUN AT THE Y
DESCRIPTION:After- School Extravaganza. Come see our newly renovated child care building and changes made to our after-school program
X-ALT-DESC;FMTTYPE=text/html:After- School Extravaganza. Come see our newly renovated child care building and changes made to our after-school program
LOCATION:YMCA of South Boston/Halifax County 650 Hamilton Blvd. South Boston\, VA 24592
UID:e.845.8475
SEQUENCE:3
DTSTAMP:20260421T222138Z
URL:https://business.halifaxchamber.net/events/details/summer-fun-at-the-y-8475
END:VEVENT

END:VCALENDAR
