BEGIN:VCALENDAR
VERSION:2.0
PRODID:-//ChamberMaster//Event Calendar 2.0//EN
METHOD:PUBLISH
X-PUBLISHED-TTL:P3D
REFRESH-INTERVAL:P3D
CALSCALE:GREGORIAN
BEGIN:VEVENT
DTSTART:20180727T210000Z
DTEND:20180728T020000Z
X-MICROSOFT-CDO-ALLDAYEVENT:FALSE
SUMMARY:SUMMER FUN AT THE Y
DESCRIPTION:Parents Night Out- Kids Cantaloupe Fest
X-ALT-DESC;FMTTYPE=text/html:Parents Night Out- Kids Cantaloupe Fest
LOCATION:YMCA of South Boston/Halifax County 650 Hamilton Blvd. South Boston\, VA 24592
UID:e.845.8476
SEQUENCE:3
DTSTAMP:20260421T222121Z
URL:https://business.halifaxchamber.net/events/details/summer-fun-at-the-y-8476
END:VEVENT

END:VCALENDAR
