BEGIN:VCALENDAR
VERSION:2.0
PRODID:-//ChamberMaster//Event Calendar 2.0//EN
METHOD:PUBLISH
X-PUBLISHED-TTL:P3D
REFRESH-INTERVAL:P3D
CALSCALE:GREGORIAN
BEGIN:VEVENT
DTSTART:20200523T140000Z
DTEND:20200523T150000Z
X-MICROSOFT-CDO-ALLDAYEVENT:FALSE
SUMMARY:Summertime Kickoff Virtual Sale
DESCRIPTION:Join Wister's for their virtual sale to kick off the summer!\n\nLots of new goodies\, including some that have not been put in the store yet!\n\nFollow Wister's on Facebook for the virtual sale!
X-ALT-DESC;FMTTYPE=text/html:Join Wister&#39\;s for their virtual sale to kick off the summer!<br />\nLots of new goodies\, including some that have not been put in the store yet!<br />\nFollow Wister&#39\;s on Facebook for the virtual sale!
LOCATION:Follow along at https://www.facebook.com/wistersva/?ref=page_internal
UID:e.845.17662
SEQUENCE:3
DTSTAMP:20260420T100053Z
URL:https://business.halifaxchamber.net/events/details/summertime-kickoff-virtual-sale-17662
END:VEVENT

END:VCALENDAR
