BEGIN:VCALENDAR
VERSION:2.0
PRODID:-//ChamberMaster//Event Calendar 2.0//EN
METHOD:PUBLISH
X-PUBLISHED-TTL:P3D
REFRESH-INTERVAL:P3D
CALSCALE:GREGORIAN
BEGIN:VEVENT
DTSTART:20170824T123000Z
DTEND:20170824T203000Z
X-MICROSOFT-CDO-ALLDAYEVENT:FALSE
SUMMARY:Sunshine Mills Job Fair
DESCRIPTION:Sunshine Mills Job Fair Team Halifax will be hosting a Job Fair August 24th 8:30 am to 4:30 pm at the Virginia Workforce Center. Positions available are Machine Operator\, Forklift Operator\, Mixer/Baker\, Packer/Stacker\, and Maintenance. Interviews will be done on site. Resumes are required. Benefits package\, 401K\, medical\, dental\, short term\, long term disability.
X-ALT-DESC;FMTTYPE=text/html:Sunshine Mills Job Fair Team Halifax will be hosting a Job Fair August 24th&nbsp\;8:30 am to 4:30 pm at the Virginia Workforce Center. Positions available are Machine Operator\, Forklift Operator\, Mixer/Baker\, Packer/Stacker\, and Maintenance. Interviews will be done on site. Resumes are required. Benefits package\, 401K\, medical\, dental\, short term\, long term disability.<br />\n&nbsp\;
LOCATION:Virginia Workforce Center 2506 Houghton Ave. South Boston\, VA 24592
UID:e.845.7068
SEQUENCE:3
DTSTAMP:20260422T175615Z
URL:https://business.halifaxchamber.net/events/details/sunshine-mills-job-fair-7068
END:VEVENT

END:VCALENDAR
