BEGIN:VCALENDAR
VERSION:2.0
PRODID:-//ChamberMaster//Event Calendar 2.0//EN
METHOD:PUBLISH
X-PUBLISHED-TTL:P3D
REFRESH-INTERVAL:P3D
CALSCALE:GREGORIAN
BEGIN:VEVENT
DTSTART:20171203T220000Z
DTEND:20171203T230000Z
X-MICROSOFT-CDO-ALLDAYEVENT:FALSE
SUMMARY:Supermoon at Staunton River State Park
DESCRIPTION:Join us at the Visitor Center at Staunton River State Park to see the Supermoon.\n\nThis moon is known as the Full Cold Moon because December is the time of year when the cold winter air settles in and the nights become long and dark.\n\n\n\nMeet at the Visitor Center and the best spot to view the rise of the only Supermoon in 2017 will be determined.\n\n\n\nMoonrise 5:23PM\n\n\n\nYou are welcome to bring binoculars and cameras to this event.
X-ALT-DESC;FMTTYPE=text/html:Join us at the Visitor Center at Staunton River State Park to see the Supermoon.<br />\nThis moon is known as the Full Cold Moon because December is the time of year when the cold winter air settles in and the nights become long and dark.<br />\n<br />\nMeet at the Visitor Center and the best spot to view the rise of the only Supermoon in 2017 will be determined.<br />\n<br />\nMoonrise 5:23PM<br />\n<br />\nYou are welcome to bring binoculars and cameras to this event.&nbsp\;&nbsp\;&nbsp\;&nbsp\;
LOCATION:Staunton River State Park 1170 Staunton Trail Scottsburg\, VA 24589
UID:e.845.7036
SEQUENCE:3
DTSTAMP:20260422T104541Z
URL:https://business.halifaxchamber.net/events/details/supermoon-at-staunton-river-state-park-7036
END:VEVENT

END:VCALENDAR
