BEGIN:VCALENDAR
VERSION:2.0
PRODID:-//ChamberMaster//Event Calendar 2.0//EN
METHOD:PUBLISH
X-PUBLISHED-TTL:P3D
REFRESH-INTERVAL:P3D
CALSCALE:GREGORIAN
BEGIN:VEVENT
DTSTART:20190219T230000Z
DTEND:20190220T010000Z
X-MICROSOFT-CDO-ALLDAYEVENT:FALSE
SUMMARY:Supermoon Staunton River State Park
DESCRIPTION:We will meet at the Visitor Center and then hike to the best place to view this special moon.\n\nMoonrise is 6:15 p.m.\n\nPlease be aware that the term Blue Moon does not mean that the moon will appear blue.\n\nPlease feel free to bring binoculars and cameras to this event.
X-ALT-DESC;FMTTYPE=text/html:<span style="background-color:rgb(255\, 255\, 255)\; font-family:geneva\,arial\,helvetica\,sans-serif\; font-size:14px">We will meet at the Visitor Center and then hike to the best place to view this special moon.</span><br />\n<span style="background-color:rgb(255\, 255\, 255)\; font-family:geneva\,arial\,helvetica\,sans-serif\; font-size:14px">Moonrise is 6:15 p.m.</span><br />\n<span style="background-color:rgb(255\, 255\, 255)\; font-family:geneva\,arial\,helvetica\,sans-serif\; font-size:14px">Please be aware that the term Blue Moon does not mean that the moon will appear blue.</span><br />\n<span style="background-color:rgb(255\, 255\, 255)\; font-family:geneva\,arial\,helvetica\,sans-serif\; font-size:14px">Please feel free to bring binoculars and cameras to this event.</span>
LOCATION:Staunton River State Park Visitor Center
UID:e.845.11718
SEQUENCE:3
DTSTAMP:20260421T122723Z
URL:https://business.halifaxchamber.net/events/details/supermoon-staunton-river-state-park-02-19-2019-11718
END:VEVENT

END:VCALENDAR
