BEGIN:VCALENDAR
VERSION:2.0
PRODID:-//ChamberMaster//Event Calendar 2.0//EN
METHOD:PUBLISH
X-PUBLISHED-TTL:P3D
REFRESH-INTERVAL:P3D
CALSCALE:GREGORIAN
BEGIN:VEVENT
DTSTART:20190121T230000Z
DTEND:20190122T010000Z
X-MICROSOFT-CDO-ALLDAYEVENT:FALSE
SUMMARY:Supermoon Staunton River State Park
DESCRIPTION:We will meet at the Visitor Center and then hike to the best place to view this special moon.\n\nMoonrise is 6:11 p.m.\n\nPlease be aware that the term Blue Moon does not mean that the moon will appear blue.\n\nPlease feel free to bring binoculars and cameras to this event.
X-ALT-DESC;FMTTYPE=text/html:<span style="font-family: Geneva\, Arial\, Helvetica\, sans-serif\; font-size: 14px\; background-color: rgb(255\, 255\, 255)\;">We will meet at the Visitor Center and then hike to the best place to view this special moon.</span><br style="font-family: Geneva\, Arial\, Helvetica\, sans-serif\; font-size: 14px\;" />\n<span style="font-family: Geneva\, Arial\, Helvetica\, sans-serif\; font-size: 14px\; background-color: rgb(255\, 255\, 255)\;">Moonrise is 6:11 p.m.</span><br style="font-family: Geneva\, Arial\, Helvetica\, sans-serif\; font-size: 14px\;" />\n<span style="font-family: Geneva\, Arial\, Helvetica\, sans-serif\; font-size: 14px\; background-color: rgb(255\, 255\, 255)\;">Please be aware that the term Blue Moon does not mean that the moon will appear blue.</span><br style="font-family: Geneva\, Arial\, Helvetica\, sans-serif\; font-size: 14px\;" />\n<span style="font-family: Geneva\, Arial\, Helvetica\, sans-serif\; font-size: 14px\; background-color: rgb(255\, 255\, 255)\;">Please feel free to bring binoculars and cameras to this event.</span>
LOCATION:Visitor Center Staunton River State Park Scottsburg\, VA
UID:e.845.11691
SEQUENCE:3
DTSTAMP:20260421T135921Z
URL:https://business.halifaxchamber.net/events/details/supermoon-staunton-river-state-park-11691
END:VEVENT

END:VCALENDAR
