BEGIN:VCALENDAR
VERSION:2.0
PRODID:-//ChamberMaster//Event Calendar 2.0//EN
METHOD:PUBLISH
X-PUBLISHED-TTL:P3D
REFRESH-INTERVAL:P3D
CALSCALE:GREGORIAN
BEGIN:VEVENT
DTSTART:20200429T150000Z
DTEND:20200429T160000Z
X-MICROSOFT-CDO-ALLDAYEVENT:FALSE
SUMMARY:Supply Chain Challenges and Future Opportunities
DESCRIPTION:We will discuss supply chain challenges from the global spread of COVID-19 at an international\, national and local level featuring supply chain experts. Topics to be covered include an overview of supply chain operation\, information on international trade from the Port of Virginia\, and GENEDGE will unveil the newly developed COVA PPE Playbook. \n\nThere will be an opportunity for you to ask the experts questions. \n\nSpeakers:\n\n\n	Mark Ferguson\, Dewey H. Johnson Professor of Operations and Supply Chain Management in the Darla Moore School of Business at the University of South Carolina \n	Chris Gullickson\, Director\, Economic Development at the Port of Virginia \n	Virginia Economic Development Partnership \n	Dean Young\,VP of Industrial Development at GENEDGE \n	Anthony Cerilli\, Interim VP of Operations at GENEDGE
X-ALT-DESC;FMTTYPE=text/html:<div class="page" title="Page 1">\n<div class="layoutArea">\n<div class="column">\n<p><span style="font-size:12px\;"><span style="font-family: CenturyGothic\;">We will discuss supply chain challenges from the global spread of COVID-19 at an international\, national and local level featuring supply chain experts. Topics to be covered include an overview of supply chain operation\, information on international trade from the Port of Virginia\, and GENEDGE will unveil the newly developed COVA PPE Playbook. </span></span></p>\n\n<p><span style="font-size:12px\;"><span style="font-family: CenturyGothic\;">There will be an opportunity for you to ask the experts questions. </span></span></p>\n\n<p><span style="font-size:12px\;"><span style="font-family: CenturyGothic\;">Speakers:</span></span></p>\n\n<ul style="list-style-type: disc">\n	<li><span style="font-size:12px\;"><span style="font-family: CenturyGothic\;">Mark Ferguson\, Dewey H. Johnson Professor of Operations and Supply Chain Management in the Darla </span></span><span style="font-size:12px\;"><span style="font-family: CenturyGothic\;">Moore School of Business at the University of South Carolina </span></span></li>\n	<li><span style="font-size:12px\;"><span style="font-family: CenturyGothic\;">Chris Gullickson\, Director\, Economic Development at the Port of Virginia </span></span></li>\n	<li><span style="font-size:12px\;"><span style="font-family: CenturyGothic\;"><span style="font-size:12px\;"><span style="font-family: CenturyGothic\;">Virginia Economic Development Partnership </span></span></span></span></li>\n	<li><span style="font-size:12px\;"><span style="font-family: CenturyGothic\;"><span style="font-size:12px\;"><span style="font-family: CenturyGothic\;"><span style="font-size:12px\;"><span style="font-family: CenturyGothic\;">Dean Young\,VP of Industrial Development at GENEDGE </span></span></span></span></span></span></li>\n	<li><span style="font-size:12px\;"><span style="font-family: CenturyGothic\;"><span style="font-size:12px\;"><span style="font-family: CenturyGothic\;"><span style="font-size:12px\;"><span style="font-family: CenturyGothic\;"><span style="font-size:12px\;"><span style="font-family: CenturyGothic\;">Anthony Cerilli\, Interim VP of Operations at GENEDGE </span></span></span></span></span></span></span></span></li>\n</ul>\n</div>\n</div>\n</div>\n
LOCATION:Register at: https://www.svra.org/calendar/38-stat-regional/53-sova-wednesday-webinars-supply-chain-challenges-and-future-opportunities
UID:e.845.17581
SEQUENCE:3
DTSTAMP:20260420T114322Z
URL:https://business.halifaxchamber.net/events/details/supply-chain-challenges-and-future-opportunities-17581
END:VEVENT

END:VCALENDAR
