BEGIN:VCALENDAR
VERSION:2.0
PRODID:-//ChamberMaster//Event Calendar 2.0//EN
METHOD:PUBLISH
X-PUBLISHED-TTL:P3D
REFRESH-INTERVAL:P3D
CALSCALE:GREGORIAN
BEGIN:VEVENT
DTSTART:20200308T170000Z
DTEND:20200308T210000Z
X-MICROSOFT-CDO-ALLDAYEVENT:FALSE
SUMMARY:Sushi Sunday
DESCRIPTION:Enjoy Sushi Sunday with Sticky Rice at Springfield Distillery!
X-ALT-DESC;FMTTYPE=text/html:Enjoy Sushi Sunday with Sticky Rice at Springfield Distillery!
LOCATION:Springfield Distillery 9040 River Road Halifax\, VA 24558
UID:e.845.17520
SEQUENCE:3
DTSTAMP:20260420T132038Z
URL:https://business.halifaxchamber.net/events/details/sushi-sunday-03-08-2020-17520
END:VEVENT

END:VCALENDAR
