BEGIN:VCALENDAR
VERSION:2.0
PRODID:-//ChamberMaster//Event Calendar 2.0//EN
METHOD:PUBLISH
X-PUBLISHED-TTL:P3D
REFRESH-INTERVAL:P3D
CALSCALE:GREGORIAN
BEGIN:VEVENT
DTSTART:20191215T170000Z
DTEND:20191215T220000Z
X-MICROSOFT-CDO-ALLDAYEVENT:FALSE
SUMMARY:Sushi Sunday
DESCRIPTION:Stick Rice Asian Cuisine will be back making sushi at Springfield Distillery.
X-ALT-DESC;FMTTYPE=text/html:Stick Rice Asian Cuisine will be back making sushi at Springfield Distillery.
LOCATION:Springfield Distillery 9040 River Road Halifax\, VA 24558
UID:e.845.15581
SEQUENCE:3
DTSTAMP:20260420T181959Z
URL:https://business.halifaxchamber.net/events/details/sushi-sunday-15581
END:VEVENT

END:VCALENDAR
