BEGIN:VCALENDAR
VERSION:2.0
PRODID:-//ChamberMaster//Event Calendar 2.0//EN
METHOD:PUBLISH
X-PUBLISHED-TTL:P3D
REFRESH-INTERVAL:P3D
CALSCALE:GREGORIAN
BEGIN:VEVENT
DTSTART:20200906T170000Z
DTEND:20200906T200000Z
X-MICROSOFT-CDO-ALLDAYEVENT:FALSE
SUMMARY:Sushi Sunday at Springfield Distillery
DESCRIPTION:Springfield Distillery will be hosting Sushi Sunday
X-ALT-DESC;FMTTYPE=text/html:Springfield Distillery will be hosting Sushi Sunday
LOCATION:Springfield Distillery 9040 River Road Halifax\, VA
UID:e.845.17743
SEQUENCE:3
DTSTAMP:20260420T045624Z
URL:https://business.halifaxchamber.net/events/details/sushi-sunday-at-springfield-distillery-17743
END:VEVENT

END:VCALENDAR
