BEGIN:VCALENDAR
VERSION:2.0
PRODID:-//ChamberMaster//Event Calendar 2.0//EN
METHOD:PUBLISH
X-PUBLISHED-TTL:P3D
REFRESH-INTERVAL:P3D
CALSCALE:GREGORIAN
BEGIN:VEVENT
DTSTART:20190604T210000Z
DTEND:20190604T210000Z
X-MICROSOFT-CDO-ALLDAYEVENT:FALSE
SUMMARY:SVHEC New Programs & Certifications Informational Meeting
DESCRIPTION:New programs & certifications coming to the SVHEC!\n\nLearn more at an information session on programs through Longwood University & Southside Virginia Community College.\n\n\n\nNew Programs & Certifications include:\n\nUndergraduate:\n\n	Teacher Education (B.S.)\n	Bachelor's in Social Work\n\nCertifications/Endorsements\n\n\n	Virginia Professional Teacher Licensure\n	Reading\, Literacy & Learning\n	Autism Spectrum Disorder\n	Educational Leadership\n\nGraduate\n\n\n	Educational Leadership (M.S.)\n	Social Work (MSW)\n	Elementary & Middle School Mathematics (M.S.)\n	Health & Physical Education (M.S.)\n	Reading\, Literacy & LEarning (M.Ed)\n	Business Administration (MBA)\n	Retail Management (MBA)\n\nFor more information call 434-572-5566 or email info@svhec.org
X-ALT-DESC;FMTTYPE=text/html:New programs &amp\; certifications coming to the SVHEC!<br />\nLearn more at an information session on programs through Longwood University &amp\; Southside Virginia Community College.<br />\n<br />\n<strong>New Programs &amp\; Certifications include:</strong><br />\n<u>Undergraduate:</u>\n<ul>\n	<li>Teacher Education (B.S.)</li>\n	<li>Bachelor&#39\;s in Social Work</li>\n</ul>\n<u>Certifications/Endorsements</u>\n\n<ul>\n	<li>Virginia Professional Teacher Licensure</li>\n	<li>Reading\, Literacy &amp\; Learning</li>\n	<li>Autism Spectrum Disorder</li>\n	<li>Educational Leadership</li>\n</ul>\n<u>Graduate</u>\n\n<ul>\n	<li>Educational Leadership (M.S.)</li>\n	<li>Social Work (MSW)</li>\n	<li>Elementary &amp\; Middle School Mathematics (M.S.)</li>\n	<li>Health &amp\; Physical Education (M.S.)</li>\n	<li>Reading\, Literacy &amp\; LEarning (M.Ed)</li>\n	<li>Business Administration (MBA)</li>\n	<li>Retail Management (MBA)</li>\n</ul>\n<strong>For more information call 434-572-5566 or email info@svhec.org</strong>
LOCATION:Southern Virginia Higher Education Center 820 Bruce Street South Boston\, VA 24592
UID:e.845.13148
SEQUENCE:3
DTSTAMP:20260421T044005Z
URL:https://business.halifaxchamber.net/events/details/svhec-new-programs-certifications-informational-meeting-13148
END:VEVENT

END:VCALENDAR
