BEGIN:VCALENDAR
VERSION:2.0
PRODID:-//ChamberMaster//Event Calendar 2.0//EN
METHOD:PUBLISH
X-PUBLISHED-TTL:P3D
REFRESH-INTERVAL:P3D
CALSCALE:GREGORIAN
BEGIN:VEVENT
DTSTART:20181214T170000Z
DTEND:20181215T190000Z
X-MICROSOFT-CDO-ALLDAYEVENT:FALSE
SUMMARY:Sweet Cee's Christmas Clearance Sale
DESCRIPTION:TODAY AND TOMORROW ONLY!!! 25% Off EVERYTHING IN STOCK! \n\nBring us your Christmas List and let us help you finish it up!\n\nWe still have Christmas Apparel & gifts galore!\n\nFriday 12/14: 12-4pm \n\nSaturday 12/15: 10-2pm
X-ALT-DESC;FMTTYPE=text/html:TODAY AND TOMORROW ONLY!!! 25% Off EVERYTHING IN STOCK!&nbsp\;<br />\nBring us your Christmas List and let us help you finish it up!<br />\nWe still have Christmas Apparel &amp\; gifts galore!<br />\nFriday 12/14: 12-4pm&nbsp\;<br />\nSaturday 12/15: 10-2pm&nbsp\;
LOCATION:441 Main Street South Boston\, VA 24592
UID:e.845.11448
SEQUENCE:3
DTSTAMP:20260421T140425Z
URL:https://business.halifaxchamber.net/events/details/sweet-cee-s-christmas-clearance-sale-11448
END:VEVENT

END:VCALENDAR
