BEGIN:VCALENDAR
VERSION:2.0
PRODID:-//ChamberMaster//Event Calendar 2.0//EN
METHOD:PUBLISH
X-PUBLISHED-TTL:P3D
REFRESH-INTERVAL:P3D
CALSCALE:GREGORIAN
BEGIN:VEVENT
DTSTART:20180310T150000Z
DTEND:20180310T200000Z
X-MICROSOFT-CDO-ALLDAYEVENT:FALSE
SUMMARY:Sweet Cee's Kids Consignment Launch Party
DESCRIPTION:The Consignment Boutique is up and running now - but come celebrate with us as we officially launch Sweet Cee's Gifts & Kids Consignment. We will have clothing and accessories from Newborn up to Young Adult XL. Join us for shopping \, our new kids corner\, some snacks and of course giveaways. If you would like to consign with us - make an appointment for February 28 to be entered for 10 FEE FREE items! Make an appointment by March 8th to get your stuff out before the Launch Party!! Be sure to RSVP & Invite your Friends!
X-ALT-DESC;FMTTYPE=text/html:The Consignment Boutique is up and running now - but come celebrate with us as we officially launch Sweet Cee&#39\;s&nbsp\;Gifts &amp\; Kids Consignment. We will have clothing and accessories from Newborn up to Young Adult XL. Join us for shopping \, our new kids corner\, some snacks and of course giveaways. If you would like to consign with us - make an appointment for February 28 to be entered for 10 FEE FREE items! Make an appointment by March 8th&nbsp\;to get your stuff out before the Launch Party!! Be sure&nbsp\;to RSVP &amp\; Invite your Friends!
LOCATION:Sweet Cee's Gifts & Kids Consignment 441 Main Street South Boston\, VA 24592
UID:e.845.7235
SEQUENCE:3
DTSTAMP:20260422T051814Z
URL:https://business.halifaxchamber.net/events/details/sweet-cee-s-kids-consignment-launch-party-7235
END:VEVENT

END:VCALENDAR
