BEGIN:VCALENDAR
VERSION:2.0
PRODID:-//ChamberMaster//Event Calendar 2.0//EN
METHOD:PUBLISH
X-PUBLISHED-TTL:P3D
REFRESH-INTERVAL:P3D
CALSCALE:GREGORIAN
BEGIN:VEVENT
DTSTART:20180331T200000Z
DTEND:20180331T220000Z
X-MICROSOFT-CDO-ALLDAYEVENT:FALSE
SUMMARY:Sweet Cee's Mom & Me Make and Take Craft Class
DESCRIPTION:BY POPULAR DEMAND!\n\n\n\nCome Join Us for a "Mom & Me" Class! \n\n\n\nThis class will be "Make and Take" Style where you actually will get to create FOUR popular items to take home with you and learn about Young Living Essential Oils and their benefits to your home\, health and life! \n\n\n\nWe will be making: Essential Oils Crafts\n\nLemon & Lavender Play Dough\n\nFrankincense & Lavender Monster Spray \n\nCitrus & Peppermint Sugar Scrub\n\nStress Away Bath Bomb\n\n\n\nWe will have light snacks and lots of other oils to try! I'm bringing in another Oily Mama or 2 to help me answer any questions you may have! \n\n\n\nThis class will be $20 per Mom & Me! If you have multiple kids\, just add $9 and we will make sure to have plenty for them to make too! \n\n\n\nThis class will have a Maximum capacity and will sell out\, so contact us to get your seats!
X-ALT-DESC;FMTTYPE=text/html:<span style="color:rgb(75\, 79\, 86)\; font-family:sf optimized\,system-ui\,-apple-system\,system-ui\,.sfnstext-regular\,sans-serif\; font-size:14px">BY POPULAR DEMAND!</span><br />\n<br />\n<span style="color:rgb(75\, 79\, 86)\; font-family:sf optimized\,system-ui\,-apple-system\,system-ui\,.sfnstext-regular\,sans-serif\; font-size:14px">Come Join Us for a &quot\;Mom &amp\; Me&quot\; Class!&nbsp\;</span><br />\n<br />\n<span style="color:rgb(75\, 79\, 86)\; font-family:sf optimized\,system-ui\,-apple-system\,system-ui\,.sfnstext-regular\,sans-serif\; font-size:14px">This class will be &quot\;Make and Take&quot\; Style where you actually will get to create FOUR popular items to take home with you and learn about Young Living Essential Oils and their benefits to your home\, health and life!&nbsp\;</span><br />\n<br />\n<span style="color:rgb(75\, 79\, 86)\; font-family:sf optimized\,system-ui\,-apple-system\,system-ui\,.sfnstext-regular\,sans-serif\; font-size:14px">We will be making: Essential Oils Crafts</span><br />\n<span style="color:rgb(75\, 79\, 86)\; font-family:sf optimized\,system-ui\,-apple-system\,system-ui\,.sfnstext-regular\,sans-serif\; font-size:14px">Lemon &amp\; Lavender Play Dough</span><br />\n<span style="color:rgb(75\, 79\, 86)\; font-family:sf optimized\,system-ui\,-apple-system\,system-ui\,.sfnstext-regular\,sans-serif\; font-size:14px">Frankincense &amp\; Lavender Monster Spray&nbsp\;</span><br />\n<span style="color:rgb(75\, 79\, 86)\; font-family:sf optimized\,system-ui\,-apple-system\,system-ui\,.sfnstext-regular\,sans-serif\; font-size:14px">Citrus &amp\; Peppermint Sugar Scrub</span><br />\n<span style="color:rgb(75\, 79\, 86)\; font-family:sf optimized\,system-ui\,-apple-system\,system-ui\,.sfnstext-regular\,sans-serif\; font-size:14px">Stress Away Bath Bomb<br />\n<br />\nWe will have light snacks and lots of other oils to try! I&#39\;m bringing in another Oily Mama or 2 to help me answer any questions you may have!&nbsp\;</span><br />\n<br />\n<span style="color:rgb(75\, 79\, 86)\; font-family:sf optimized\,system-ui\,-apple-system\,system-ui\,.sfnstext-regular\,sans-serif\; font-size:14px">This class will be $20 per Mom &amp\; Me! If you have multiple kids\, just add $9 and we will make sure to have plenty for them to make too!&nbsp\;</span><br />\n<br />\n<span style="color:rgb(75\, 79\, 86)\; font-family:sf optimized\,system-ui\,-apple-system\,system-ui\,.sfnstext-regular\,sans-serif\; font-size:14px">This class will have a Maximum capacity and will sell out\, so contact us to get your seats!</span>
LOCATION:Sweet Cee's Gifts and Kids Consignment 441 Main Street\, South Boston\, VA 24592
UID:e.845.8244
SEQUENCE:3
DTSTAMP:20260422T052043Z
URL:https://business.halifaxchamber.net/events/details/sweet-cee-s-mom-me-make-and-take-craft-class-8244
END:VEVENT

END:VCALENDAR
